BEGIN:VCALENDAR
VERSION:2.0
PRODID:-//http://www.hollowhouse-entertainment.com/OS///NONSGML kigkonsult.se iCalcreator 2.10.15//
METHOD:PUBLISH
BEGIN:VEVENT
UID:20260419T215514UTC-4379ueEtbB@http://www.hollowhouse-entertainment.com/
 OS/
DTSTAMP:20260419T215514Z
DESCRIPTION: http://www.hollowhouse-entertainment.com/OS/index.php/event-ca
 lendar/event/4232-convention.html
DTSTART:20240920T130000Z
DTEND:20240923T010000Z
LOCATION:Legend Valley (7585 Kindle Rd\, Thornville\, OH 43076\, USA)
SUMMARY:Convention
URL:http://www.hollowhouse-entertainment.com/OS/index.php/event-calendar/ev
 ent/4232-convention.html
END:VEVENT
END:VCALENDAR
