BEGIN:VCALENDAR
VERSION:2.0
PRODID:-//http://www.hollowhouse-entertainment.com/OS///NONSGML kigkonsult.se iCalcreator 2.10.15//
METHOD:PUBLISH
BEGIN:VEVENT
UID:20260420T180838UTC-12203xUVbD@http://www.hollowhouse-entertainment.com/
 OS/
DTSTAMP:20260420T180838Z
DESCRIPTION: http://www.hollowhouse-entertainment.com/OS/index.php/event-ca
 lendar/event/4225-studio-demo.html
DTSTART:20240906T020000Z
DTEND:20240906T043000Z
LOCATION:Hollow House Entertainment (10803 Claywood Drive\, Austin\, TX 787
 53)
SUMMARY:Studio Demo
URL:http://www.hollowhouse-entertainment.com/OS/index.php/event-calendar/ev
 ent/4225-studio-demo.html
END:VEVENT
END:VCALENDAR
