BEGIN:VCALENDAR
VERSION:2.0
PRODID:-//http://www.hollowhouse-entertainment.com/OS///NONSGML kigkonsult.se iCalcreator 2.10.15//
METHOD:PUBLISH
BEGIN:VEVENT
UID:20260421T064218UTC-8695tv6EUp@http://www.hollowhouse-entertainment.com/
 OS/
DTSTAMP:20260421T064218Z
DESCRIPTION: http://www.hollowhouse-entertainment.com/OS/index.php/event-ca
 lendar/event/3996-parade.html
DTSTART:20230813T010000Z
DTEND:20230813T040000Z
LOCATION:Austin GLPF (402 Congress Ave\, Austin\, TX 78701)
SUMMARY:Parade
URL:http://www.hollowhouse-entertainment.com/OS/index.php/event-calendar/ev
 ent/3996-parade.html
END:VEVENT
END:VCALENDAR
