BEGIN:VCALENDAR
VERSION:2.0
PRODID:-//http://www.hollowhouse-entertainment.com/OS///NONSGML kigkonsult.se iCalcreator 2.10.15//
METHOD:PUBLISH
BEGIN:VEVENT
UID:20260421T064922UTC-4726TloHpx@http://www.hollowhouse-entertainment.com/
 OS/
DTSTAMP:20260421T064922Z
DESCRIPTION: http://www.hollowhouse-entertainment.com/OS/index.php/event-ca
 lendar/event/3913-adult-game-night.html
DTSTART:20211107T010000Z
DTEND:20211107T050000Z
LOCATION:Dart'em Up (13776 US Highway 183\, suite #104\, Austin\, TX 78750)
SUMMARY:Adult Game Night
URL:http://www.hollowhouse-entertainment.com/OS/index.php/event-calendar/ev
 ent/3913-adult-game-night.html
END:VEVENT
END:VCALENDAR
