BEGIN:VCALENDAR
VERSION:2.0
PRODID:-//http://www.hollowhouse-entertainment.com/OS///NONSGML kigkonsult.se iCalcreator 2.10.15//
METHOD:PUBLISH
BEGIN:VEVENT
UID:20260422T094505UTC-4339UP2II9@http://www.hollowhouse-entertainment.com/
 OS/
DTSTAMP:20260422T094505Z
DESCRIPTION: http://www.hollowhouse-entertainment.com/OS/index.php/event-ca
 lendar/event/3291-wedding.html
DTSTART:20190628T220000Z
DTEND:20190629T030000Z
LOCATION:Hollow House Entertainment (10803 Claywood Drive\, Austin\, TX 787
 53)
SUMMARY:Wedding
URL:http://www.hollowhouse-entertainment.com/OS/index.php/event-calendar/ev
 ent/3291-wedding.html
END:VEVENT
END:VCALENDAR
