BEGIN:VCALENDAR
VERSION:2.0
PRODID:-//http://www.hollowhouse-entertainment.com/OS///NONSGML kigkonsult.se iCalcreator 2.10.15//
METHOD:PUBLISH
BEGIN:VEVENT
UID:20260421T081605UTC-8717zhVdBe@http://www.hollowhouse-entertainment.com/
 OS/
DTSTAMP:20260421T081605Z
DESCRIPTION: http://www.hollowhouse-entertainment.com/OS/index.php/event-ca
 lendar/event/1084-wedding.html
DTSTART:20130804T014500Z
DTEND:20130804T034500Z
LOCATION:Avery Ranch Club (10500 Avery Club Drive\, Austin\, TX 78717)
SUMMARY:Wedding
URL:http://www.hollowhouse-entertainment.com/OS/index.php/event-calendar/ev
 ent/1084-wedding.html
END:VEVENT
END:VCALENDAR
